BEGIN:VCALENDAR
VERSION:2.0
PRODID:-//InvisionCommunity Events 4.7.22//EN
METHOD:PUBLISH
CALSCALE:GREGORIAN
REFRESH-INTERVAL:PT15M
X-PUBLISHED-TTL:PT15M
X-WR-CALNAME:Retail Store Calendar - MCB
NAME:Retail Store Calendar - MCB
BEGIN:VTIMEZONE
TZID:Europe/London
TZURL:http://tzurl.org/zoneinfo/Europe/London
X-LIC-LOCATION:Europe/London
BEGIN:DAYLIGHT
TZOFFSETFROM:+0000
TZOFFSETTO:+0100
TZNAME:BST
DTSTART:20210328T020000Z
RRULE:FREQ=YEARLY;BYMONTH=3;BYDAY=-1SU
END:DAYLIGHT
BEGIN:STANDARD
TZOFFSETFROM:+0100
TZOFFSETTO:+0000
TZNAME:GMT
DTSTART:20211031T020000Z
RRULE:FREQ=YEARLY;BYMONTH=10;BYDAY=-1SU
END:STANDARD
END:VTIMEZONE
BEGIN:VEVENT
SUMMARY:MCB is closed
DTSTAMP:20210516T172050Z
SEQUENCE:0
UID:7-1-daf66f947d352ce41fc340fd58b1e323@www.musiccitybricks.com
ORGANIZER;CN="Website Admin":webmaster@musiccitybricks.com
DESCRIPTION:\n	Music City Bricks Closed\n
DTSTART;VALUE=DATE:20210627
DTEND;VALUE=DATE:20210705
END:VEVENT
BEGIN:VEVENT
SUMMARY:May The 4th Be With You
DTSTAMP:20210430T054740Z
SEQUENCE:0
UID:6-1-daf66f947d352ce41fc340fd58b1e323@www.musiccitybricks.com
ORGANIZER;CN="Music City Bricks":webmaster@musiccitybricks.c
	om
DESCRIPTION:\n	May the 4th be with you! Come hang out with us Tuesday\, 
	5/4/2021 anytime from 11am-9pm. We are opening to the public for a special
	 fun day for Star Wars fans. We will have some cool temporary exhibits as 
	well as some new permanent ones. We also still have build slots available 
	for the giant Millennium Falcon. \n
DTSTART:20210504T160000Z
DTEND:20210505T020000Z
END:VEVENT
BEGIN:VEVENT
SUMMARY:Closed - Retail Store MCB
DTSTAMP:20210303T005532Z
SEQUENCE:0
UID:1-1-daf66f947d352ce41fc340fd58b1e323@www.musiccitybricks.com
ORGANIZER;CN="Website Admin":webmaster@musiccitybricks.com
DESCRIPTION:\n	We are closed most of this week working on some big proje
	cts and buying LEGO sets.\n
DTSTART;VALUE=DATE:20210314
RRULE:FREQ=DAILY;INTERVAL=1;UNTIL=20210319T000000
END:VEVENT
END:VCALENDAR
